BEGIN:VCALENDAR
VERSION:2.0
PRODID:-//KOPKAR MEAINA - ECPv6.15.20//NONSGML v1.0//EN
CALSCALE:GREGORIAN
METHOD:PUBLISH
X-ORIGINAL-URL:https://trans.kopkarmeaina.top
X-WR-CALDESC:Events for KOPKAR MEAINA
REFRESH-INTERVAL;VALUE=DURATION:PT1H
X-Robots-Tag:noindex
X-PUBLISHED-TTL:PT1H
BEGIN:VTIMEZONE
TZID:Asia/Krasnoyarsk
BEGIN:STANDARD
TZOFFSETFROM:+0700
TZOFFSETTO:+0700
TZNAME:+07
DTSTART:20230101T000000
END:STANDARD
END:VTIMEZONE
BEGIN:VTIMEZONE
TZID:UTC
BEGIN:STANDARD
TZOFFSETFROM:+0000
TZOFFSETTO:+0000
TZNAME:UTC
DTSTART:20220101T000000
END:STANDARD
END:VTIMEZONE
BEGIN:VEVENT
DTSTART;TZID=Asia/Krasnoyarsk:20250628T050000
DTEND;TZID=Asia/Krasnoyarsk:20250629T170000
DTSTAMP:20260419T225008
CREATED:20250512T054234Z
LAST-MODIFIED:20250512T054234Z
UID:163-1751086800-1751216400@trans.kopkarmeaina.top
SUMMARY:2 BUS KOPKAR WISATA KE TAMAN SAFARI 001/KOP-MEAINA/PH/JAN/2025
DESCRIPTION:2 BUS MENGANTAR WISATA ANGGOTA KOPKAR KE TAMAN SAFARI 001/KOP-MEAINA/PH/JAN/2025
URL:https://trans.kopkarmeaina.top/jadwal/2-bus-kopkar-wisata-ke-taman-safari-001-kop-meaina-ph-jan-2025/
ATTACH;FMTTYPE=image/jpeg:https://trans.kopkarmeaina.top/wp-content/uploads/2023/12/kopkar.jpg
END:VEVENT
BEGIN:VEVENT
DTSTART;TZID=Asia/Krasnoyarsk:20250621T050000
DTEND;TZID=Asia/Krasnoyarsk:20250622T170000
DTSTAMP:20260419T225008
CREATED:20250512T053914Z
LAST-MODIFIED:20250515T054540Z
UID:161-1750482000-1750611600@trans.kopkarmeaina.top
SUMMARY:BUS PUTIH KE BOGOR 008/KOP-MEAINA/PH/APR/2025
DESCRIPTION:Bus Putih Wisata Ke Bogor antar Jemput. 008/KOP-MEAINA/PH/APR/2025 \nAntar tgl 21 Juni 2025 dan Jemput tgl 22 Juni 2025 \nDriver dari penyewa dan segala biaya yang timbul dalam perjalanan menjadi tanggung jawab penyewa
URL:https://trans.kopkarmeaina.top/jadwal/bus-putih-ke-bogor-008-kop-meaina-ph-apr-2025/
ATTACH;FMTTYPE=image/jpeg:https://trans.kopkarmeaina.top/wp-content/uploads/2023/12/kopkar.jpg
END:VEVENT
BEGIN:VEVENT
DTSTART;TZID=Asia/Krasnoyarsk:20250518T050000
DTEND;TZID=Asia/Krasnoyarsk:20250518T170000
DTSTAMP:20260419T225008
CREATED:20250512T053100Z
LAST-MODIFIED:20250512T053100Z
UID:159-1747544400-1747587600@trans.kopkarmeaina.top
SUMMARY:BUS PUTIH KE CIKUNDUL 009/KOP-MEAINA/PH/MEI/2025
DESCRIPTION:WISATA KE CIKUNDUL untuk nomor surat jalan 009/KOP-MEAINA/PH/MEI/2025
URL:https://trans.kopkarmeaina.top/jadwal/bus-putih-ke-cikundul-009-kop-meaina-ph-mei-2025/
ATTACH;FMTTYPE=image/jpeg:https://trans.kopkarmeaina.top/wp-content/uploads/2023/12/kopkar.jpg
END:VEVENT
BEGIN:VEVENT
DTSTART;TZID=Asia/Krasnoyarsk:20240929T050000
DTEND;TZID=Asia/Krasnoyarsk:20240929T170000
DTSTAMP:20260419T225008
CREATED:20240919T123027Z
LAST-MODIFIED:20240919T123027Z
UID:156-1727586000-1727629200@trans.kopkarmeaina.top
SUMMARY:Bus Putih Perjalanan Ke Syeh Asnawi Banten
DESCRIPTION:Bus Putih Perjalanan Ke Syeh Asnawi Banten Bareng Keluarga Bapak Hendra\, semoga selamat sampai tujuan dan kembali ke rumah.
URL:https://trans.kopkarmeaina.top/jadwal/bus-putih-perjalanan-ke-syeh-asnawi-banten/
ATTACH;FMTTYPE=image/jpeg:https://trans.kopkarmeaina.top/wp-content/uploads/2023/12/kopkar.jpg
END:VEVENT
BEGIN:VEVENT
DTSTART;TZID=Asia/Krasnoyarsk:20240927T080000
DTEND;TZID=Asia/Krasnoyarsk:20240928T170000
DTSTAMP:20260419T225008
CREATED:20240828T140204Z
LAST-MODIFIED:20240828T140204Z
UID:143-1727424000-1727542800@trans.kopkarmeaina.top
SUMMARY:Trip HJ Isti Ke Cisarua Bogor
DESCRIPTION:Trip HJ Isti Ke Cisarua Bogor Bareng Bus Putih Nginep Yah
URL:https://trans.kopkarmeaina.top/jadwal/trip-hj-isti-ke-cisarua-bogor/
ATTACH;FMTTYPE=image/jpeg:https://trans.kopkarmeaina.top/wp-content/uploads/2023/12/kopkar.jpg
END:VEVENT
BEGIN:VEVENT
DTSTART;TZID=Asia/Krasnoyarsk:20240922T050000
DTEND;TZID=Asia/Krasnoyarsk:20240922T170000
DTSTAMP:20260419T225008
CREATED:20240912T031142Z
LAST-MODIFIED:20240912T031142Z
UID:148-1726981200-1727024400@trans.kopkarmeaina.top
SUMMARY:Bus Putih Trip Ke Play ground Kalam Kopen Kab.Bekasi
DESCRIPTION:Bus Putih Trip Ke Play ground Kalam Kopen Kab.Bekasi atas nama pak yudi
URL:https://trans.kopkarmeaina.top/jadwal/bus-putih-trip-ke-play-ground-kalam-kopen-kab-bekasi/
ATTACH;FMTTYPE=image/jpeg:https://trans.kopkarmeaina.top/wp-content/uploads/2023/12/kopkar.jpg
END:VEVENT
BEGIN:VEVENT
DTSTART;TZID=Asia/Krasnoyarsk:20240915T050000
DTEND;TZID=Asia/Krasnoyarsk:20240915T183000
DTSTAMP:20260419T225008
CREATED:20240914T030916Z
LAST-MODIFIED:20240914T031134Z
UID:152-1726376400-1726425000@trans.kopkarmeaina.top
SUMMARY:Bus Putih Trip Bareng Pak Tono Lapang bola purwakarta
DESCRIPTION:Trip Bareng Pak Tono Lapang bola purwakarta
URL:https://trans.kopkarmeaina.top/jadwal/trip-bareng-pak-tono-lapang-bola-purwakarta/
ATTACH;FMTTYPE=image/jpeg:https://trans.kopkarmeaina.top/wp-content/uploads/2023/12/kopkar.jpg
END:VEVENT
BEGIN:VEVENT
DTSTART;TZID=Asia/Krasnoyarsk:20240915T050000
DTEND;TZID=Asia/Krasnoyarsk:20240915T170000
DTSTAMP:20260419T225008
CREATED:20240912T030954Z
LAST-MODIFIED:20240912T030954Z
UID:146-1726376400-1726419600@trans.kopkarmeaina.top
SUMMARY:Bus Abu-Abu Trip Ke Anyer
DESCRIPTION:Bus Abu-Abu Trip Ke Anyer bareng bapak Bpk Anhar
URL:https://trans.kopkarmeaina.top/jadwal/bus-abu-abu-trip-ke-anyer/
ATTACH;FMTTYPE=image/png:https://trans.kopkarmeaina.top/wp-content/uploads/2023/12/b2-e1702301313476.png
END:VEVENT
BEGIN:VEVENT
DTSTART;TZID=Asia/Krasnoyarsk:20240914T043000
DTEND;TZID=Asia/Krasnoyarsk:20240914T170000
DTSTAMP:20260419T225008
CREATED:20240828T133834Z
LAST-MODIFIED:20240828T133834Z
UID:133-1726288200-1726333200@trans.kopkarmeaina.top
SUMMARY:Trip Bapak Syaefudin Ke Muara Angke Jakarta Utara
DESCRIPTION:Trip Bapak Syaefudin Ke Muara Angke Jakarta Utara Menggunakan Bus Abu-Abu \n 
URL:https://trans.kopkarmeaina.top/jadwal/trip-bapak-syaefudin-ke-muara-angke-jakarta-utara/
ATTACH;FMTTYPE=image/png:https://trans.kopkarmeaina.top/wp-content/uploads/2023/12/b2-e1702301313476.png
END:VEVENT
BEGIN:VEVENT
DTSTART;TZID=Asia/Krasnoyarsk:20240908T233000
DTEND;TZID=Asia/Krasnoyarsk:20240908T233000
DTSTAMP:20260419T225008
CREATED:20240828T134345Z
LAST-MODIFIED:20240828T134740Z
UID:137-1725838200-1725838200@trans.kopkarmeaina.top
SUMMARY:Jemput Bapak Yudianto Dari Puncak
DESCRIPTION:Bus Putih Jemput Saja Bapak Yudianto Dari Puncak\, Berangkatnya kosongan
URL:https://trans.kopkarmeaina.top/jadwal/jemput-bapak-yudianto-dari-puncak/
ATTACH;FMTTYPE=image/jpeg:https://trans.kopkarmeaina.top/wp-content/uploads/2023/12/kopkar.jpg
END:VEVENT
BEGIN:VEVENT
DTSTART;TZID=Asia/Krasnoyarsk:20240907T050000
DTEND;TZID=Asia/Krasnoyarsk:20240907T170000
DTSTAMP:20260419T225008
CREATED:20240828T134448Z
LAST-MODIFIED:20240828T134448Z
UID:139-1725685200-1725728400@trans.kopkarmeaina.top
SUMMARY:Trip Bapak Tono Ke Pengalengan
DESCRIPTION:Trip Bapak Tono Ke Pengalengan PP 1 hari bersama bus putih kopkar meaina
URL:https://trans.kopkarmeaina.top/jadwal/trip-bapak-tono-ke-pengalengan/
ATTACH;FMTTYPE=image/jpeg:https://trans.kopkarmeaina.top/wp-content/uploads/2023/12/kopkar.jpg
END:VEVENT
BEGIN:VEVENT
DTSTART;TZID=Asia/Krasnoyarsk:20240905T210000
DTEND;TZID=Asia/Krasnoyarsk:20240905T210000
DTSTAMP:20260419T225008
CREATED:20240828T134054Z
LAST-MODIFIED:20240828T134553Z
UID:135-1725570000-1725570000@trans.kopkarmeaina.top
SUMMARY:Antar Bapak Yudianto Ke Puncak
DESCRIPTION:Bus Putih Antar Saja Bapak Yudianto Ke Puncak Gunung Halimun\, Camping Ground\, Cikreteg\, Bogor \, langsung pulang kosongan
URL:https://trans.kopkarmeaina.top/jadwal/antar-bapak-yudianto-ke-puncak/
ATTACH;FMTTYPE=image/jpeg:https://trans.kopkarmeaina.top/wp-content/uploads/2023/12/kopkar.jpg
END:VEVENT
BEGIN:VEVENT
DTSTART;TZID=Asia/Krasnoyarsk:20240720T080000
DTEND;TZID=Asia/Krasnoyarsk:20240721T170000
DTSTAMP:20260419T225008
CREATED:20240702T150310Z
LAST-MODIFIED:20240702T150310Z
UID:131-1721462400-1721581200@trans.kopkarmeaina.top
SUMMARY:Bus Abu-Abu Perjalanan Ke Bogor
DESCRIPTION:Bus Abu-Abu melakukan perjalanan ke bogor
URL:https://trans.kopkarmeaina.top/jadwal/bus-abu-abu-perjalanan-ke-bogor/
ATTACH;FMTTYPE=image/png:https://trans.kopkarmeaina.top/wp-content/uploads/2023/12/b2-e1702301313476.png
END:VEVENT
BEGIN:VEVENT
DTSTART;TZID=Asia/Krasnoyarsk:20240720T060000
DTEND;TZID=Asia/Krasnoyarsk:20240720T180000
DTSTAMP:20260419T225008
CREATED:20240603T151234Z
LAST-MODIFIED:20240603T151234Z
UID:127-1721455200-1721498400@trans.kopkarmeaina.top
SUMMARY:Bus Putih Perjalanan Ke Gunung Mas\, Puncak-Bogor
DESCRIPTION:Bus Putih Perjalanan Ke Gunung Mas\, Puncak-Bogor Mengantar Rombongan Anggota Karyawan Kopkar
URL:https://trans.kopkarmeaina.top/jadwal/bus-putih-perjalanan-ke-gunung-mas-puncak-bogor/
ATTACH;FMTTYPE=image/jpeg:https://trans.kopkarmeaina.top/wp-content/uploads/2023/12/kopkar.jpg
END:VEVENT
BEGIN:VEVENT
DTSTART;TZID=Asia/Krasnoyarsk:20240713T040000
DTEND;TZID=Asia/Krasnoyarsk:20240714T170000
DTSTAMP:20260419T225008
CREATED:20240609T132756Z
LAST-MODIFIED:20240609T132756Z
UID:129-1720843200-1720976400@trans.kopkarmeaina.top
SUMMARY:Bus Putih Perjalanan Ke Sari Ater Subang
DESCRIPTION:Bus Putih Perjalanan Ke Sari Ater Subang Bersama Rombongan Keluarga Besar KOPKAR MEAINA.
URL:https://trans.kopkarmeaina.top/jadwal/bus-putih-perjalanan-ke-sari-ater-subang/
ATTACH;FMTTYPE=image/jpeg:https://trans.kopkarmeaina.top/wp-content/uploads/2023/12/kopkar.jpg
END:VEVENT
BEGIN:VEVENT
DTSTART;TZID=Asia/Krasnoyarsk:20240602T050000
DTEND;TZID=Asia/Krasnoyarsk:20240602T170000
DTSTAMP:20260419T225008
CREATED:20240603T150951Z
LAST-MODIFIED:20240603T150951Z
UID:125-1717304400-1717347600@trans.kopkarmeaina.top
SUMMARY:Bus Putih Perjalanan Ke Dr. Hanna Permana Subanegara\, MARS.
DESCRIPTION:Dr. Hanna Permana Subanegara\, MARS. Jl Suvarna Damar III/E5 Suvarna Padi Golf Estate Kedaton.
URL:https://trans.kopkarmeaina.top/jadwal/bus-putih-perjalanan-ke-dr-hanna-permana-subanegara-mars/
ATTACH;FMTTYPE=image/jpeg:https://trans.kopkarmeaina.top/wp-content/uploads/2023/12/kopkar.jpg
END:VEVENT
BEGIN:VEVENT
DTSTART;TZID=Asia/Krasnoyarsk:20240518T040000
DTEND;TZID=Asia/Krasnoyarsk:20240519T170000
DTSTAMP:20260419T225008
CREATED:20240513T155315Z
LAST-MODIFIED:20240513T155315Z
UID:122-1716004800-1716138000@trans.kopkarmeaina.top
SUMMARY:Bus Putih Perjalanan Ke Tangkuban Perahu & Ciater
DESCRIPTION:Bus Putih Perjalanan Ke Tangkuban Perahu & Ciater semoga selamat sampai tujuan dan balik ke rumah kembali.
URL:https://trans.kopkarmeaina.top/jadwal/bus-putih-perjalanan-ke-tangkuban-perahu-ciater/
ATTACH;FMTTYPE=image/jpeg:https://trans.kopkarmeaina.top/wp-content/uploads/2023/12/kopkar.jpg
END:VEVENT
BEGIN:VEVENT
DTSTART;TZID=Asia/Krasnoyarsk:20240413T080000
DTEND;TZID=Asia/Krasnoyarsk:20240415T170000
DTSTAMP:20260419T225008
CREATED:20240301T133948Z
LAST-MODIFIED:20240301T133948Z
UID:96-1712995200-1713200400@trans.kopkarmeaina.top
SUMMARY:Perjalanan Ke Grand Cokro Privatepool\, Yogyakarta
DESCRIPTION:
URL:https://trans.kopkarmeaina.top/jadwal/perjalanan-ke-grand-cokro-privatepool-yogyakarta/
ATTACH;FMTTYPE=image/jpeg:https://trans.kopkarmeaina.top/wp-content/uploads/2023/12/kopkar.jpg
END:VEVENT
BEGIN:VEVENT
DTSTART;TZID=Asia/Krasnoyarsk:20240225T080000
DTEND;TZID=Asia/Krasnoyarsk:20240225T170000
DTSTAMP:20260419T225008
CREATED:20240301T134723Z
LAST-MODIFIED:20240301T134723Z
UID:100-1708848000-1708880400@trans.kopkarmeaina.top
SUMMARY:Bus Putih Perjalanan Ke Makam Mbah Husen Pemanukan
DESCRIPTION:
URL:https://trans.kopkarmeaina.top/jadwal/bus-putih-perjalanan-ke-makam-mbah-husen-pemanukan/
ATTACH;FMTTYPE=image/jpeg:https://trans.kopkarmeaina.top/wp-content/uploads/2023/12/kopkar.jpg
END:VEVENT
BEGIN:VEVENT
DTSTART;TZID=Asia/Krasnoyarsk:20240224T080000
DTEND;TZID=Asia/Krasnoyarsk:20240225T170000
DTSTAMP:20260419T225008
CREATED:20240301T134901Z
LAST-MODIFIED:20240301T134901Z
UID:102-1708761600-1708880400@trans.kopkarmeaina.top
SUMMARY:Bus Abu Ke Makam syekh Muhammad Syafei
DESCRIPTION:Bus Abu-Abu Melakukan perjalanan ke Makam syekh Muhammad Syafei(pangeran raja atas angin) Cijenuk
URL:https://trans.kopkarmeaina.top/jadwal/bus-abu-ke-makam-syekh-muhammad-syafei/
ATTACH;FMTTYPE=image/png:https://trans.kopkarmeaina.top/wp-content/uploads/2023/12/b2-e1702301313476.png
END:VEVENT
BEGIN:VEVENT
DTSTART;TZID=Asia/Krasnoyarsk:20240224T043000
DTEND;TZID=Asia/Krasnoyarsk:20240225T130000
DTSTAMP:20260419T225008
CREATED:20240116T153511Z
LAST-MODIFIED:20240116T153511Z
UID:91-1708749000-1708866000@trans.kopkarmeaina.top
SUMMARY:Perjalanan Ke Makam syekh Muhammad Syafei(pangeran raja atas angin) Cijenuk
DESCRIPTION:Perjalanan Ke Makam syekh Muhammad Syafei(pangeran raja atas angin) Cijenuk
URL:https://trans.kopkarmeaina.top/jadwal/perjalanan-ke-makam-syekh-muhammad-syafeipangeran-raja-atas-angin-cijenuk/
ATTACH;FMTTYPE=image/jpeg:https://trans.kopkarmeaina.top/wp-content/uploads/2023/12/kopkar.jpg
END:VEVENT
BEGIN:VEVENT
DTSTART;TZID=Asia/Krasnoyarsk:20240210T080000
DTEND;TZID=Asia/Krasnoyarsk:20240210T170000
DTSTAMP:20260419T225008
CREATED:20240301T134231Z
LAST-MODIFIED:20240301T134231Z
UID:98-1707552000-1707584400@trans.kopkarmeaina.top
SUMMARY:Bus Putih Ikut Kampanye Ke JIS
DESCRIPTION:
URL:https://trans.kopkarmeaina.top/jadwal/bus-putih-ikut-kampanye-ke-jis/
ATTACH;FMTTYPE=image/jpeg:https://trans.kopkarmeaina.top/wp-content/uploads/2023/12/kopkar.jpg
END:VEVENT
BEGIN:VEVENT
DTSTART;TZID=Asia/Krasnoyarsk:20240127T060000
DTEND;TZID=Asia/Krasnoyarsk:20240128T133000
DTSTAMP:20260419T225008
CREATED:20231217T044206Z
LAST-MODIFIED:20231217T044405Z
UID:78-1706335200-1706448600@trans.kopkarmeaina.top
SUMMARY:Bus Putih Perjalanan Ke Bogor
DESCRIPTION:Perjalan ke arah Villa Bunda Hijau\n8W4G+3MX Villa Bunda Hijau\, Jl. Pakancilan\, Kuta\, Kec. Cisarua\, Kabupaten Bogor\, Jawa Barat
URL:https://trans.kopkarmeaina.top/jadwal/bus-putih-perjalanan-ke-bogor/
LOCATION:Puncak Bogor\, Villa Bunda Hijau\, Bogor\, Jawa Barat\, Indonesia
ATTACH;FMTTYPE=image/jpeg:https://trans.kopkarmeaina.top/wp-content/uploads/2023/12/kopkar.jpg
END:VEVENT
BEGIN:VEVENT
DTSTART;TZID=Asia/Krasnoyarsk:20240120T080000
DTEND;TZID=Asia/Krasnoyarsk:20240120T170000
DTSTAMP:20260419T225008
CREATED:20240121T025541Z
LAST-MODIFIED:20240121T025541Z
UID:93-1705737600-1705770000@trans.kopkarmeaina.top
SUMMARY:Perjalanan Ke Cirebon
DESCRIPTION:Bus putih melakukan perjalanan ke cirebon
URL:https://trans.kopkarmeaina.top/jadwal/perjalanan-ke-cirebon/
ATTACH;FMTTYPE=image/jpeg:https://trans.kopkarmeaina.top/wp-content/uploads/2023/12/kopkar.jpg
END:VEVENT
BEGIN:VEVENT
DTSTART;TZID=Asia/Krasnoyarsk:20240113T033000
DTEND;TZID=Asia/Krasnoyarsk:20240114T150000
DTSTAMP:20260419T225008
CREATED:20240108T134150Z
LAST-MODIFIED:20240108T134319Z
UID:86-1705116600-1705244400@trans.kopkarmeaina.top
SUMMARY:Perjalanan Ke Cipulaga Subang
DESCRIPTION:Bersama bus kopkar meaina kita berangkat ke Cipulaga Subang.
URL:https://trans.kopkarmeaina.top/jadwal/perjalanan-ke-cipulaga-subang/
ATTACH;FMTTYPE=image/jpeg:https://trans.kopkarmeaina.top/wp-content/uploads/2023/12/kopkar.jpg
END:VEVENT
BEGIN:VEVENT
DTSTART;TZID=Asia/Krasnoyarsk:20240105T080000
DTEND;TZID=Asia/Krasnoyarsk:20240106T170000
DTSTAMP:20260419T225008
CREATED:20240106T133716Z
LAST-MODIFIED:20240106T133716Z
UID:83-1704441600-1704560400@trans.kopkarmeaina.top
SUMMARY:Perjalanan Ke Ciater
DESCRIPTION:Bus kopkar warna putih perjalanan menuju ciater subang jawa barat
URL:https://trans.kopkarmeaina.top/jadwal/perjalanan-ke-ciater/
LOCATION:Ciater\, Jawa Barat\, Subang\, Jawa Barat\, Indonesia
END:VEVENT
BEGIN:VEVENT
DTSTART;TZID=UTC:20231228T080000
DTEND;TZID=UTC:20231230T170000
DTSTAMP:20260419T225008
CREATED:20231209T084608Z
LAST-MODIFIED:20231211T062604Z
UID:53-1703750400-1703955600@trans.kopkarmeaina.top
SUMMARY:Bus Putih Perjalanan Ke Wonogiri
DESCRIPTION:Libur akhir tahun bersama Bus Putih Kopkar MEAINA melakukan Perjalanan Ke Wonogiri Lur.
URL:https://trans.kopkarmeaina.top/jadwal/bus-putih-perjalanan-ke-wonogiri/
LOCATION:Wonogiri\, Jawa Tengah\, Indonesia
ATTACH;FMTTYPE=image/png:https://trans.kopkarmeaina.top/wp-content/uploads/2023/12/logokopkarmeaina.png
END:VEVENT
BEGIN:VEVENT
DTSTART;TZID=UTC:20231225T080000
DTEND;TZID=UTC:20231225T170000
DTSTAMP:20260419T225008
CREATED:20231209T084226Z
LAST-MODIFIED:20231211T062622Z
UID:51-1703491200-1703523600@trans.kopkarmeaina.top
SUMMARY:Unit Putih Perjalanan Ke Astro Bandung
DESCRIPTION:Unit Putih Perjalanan Ke Astro Bandung Bersama Bus Kopkar MEAINA
URL:https://trans.kopkarmeaina.top/jadwal/unit-putih-perjalanan-ke-astro-bandung/
LOCATION:Bandung\, Jawa Barat\, Indonesia
ATTACH;FMTTYPE=image/png:https://trans.kopkarmeaina.top/wp-content/uploads/2023/12/logokopkarmeaina.png
END:VEVENT
BEGIN:VEVENT
DTSTART;TZID=UTC:20231217T080000
DTEND;TZID=UTC:20231217T170000
DTSTAMP:20260419T225008
CREATED:20231209T083705Z
LAST-MODIFIED:20231211T062723Z
UID:46-1702800000-1702832400@trans.kopkarmeaina.top
SUMMARY:Unit Putih Perjalanan Ke Kiara Condong Bandung
DESCRIPTION:Unit Putih Perjalanan Ke Kiara Condong Bandung
URL:https://trans.kopkarmeaina.top/jadwal/unit-putih-perjalanan-ke-kiara-condong-bandung/
LOCATION:Bandung\, Jawa Barat\, Indonesia
ATTACH;FMTTYPE=image/png:https://trans.kopkarmeaina.top/wp-content/uploads/2023/12/logokopkarmeaina.png
END:VEVENT
BEGIN:VEVENT
DTSTART;TZID=UTC:20231217T080000
DTEND;TZID=UTC:20231217T170000
DTSTAMP:20260419T225008
CREATED:20231209T083154Z
LAST-MODIFIED:20231211T062839Z
UID:44-1702800000-1702832400@trans.kopkarmeaina.top
SUMMARY:Unit Abu Perjalanan Ke Pangalengan
DESCRIPTION:Perjalanan Ke Pangalengan Untuk Unit Warna Abu-abu
URL:https://trans.kopkarmeaina.top/jadwal/perjalanan-ke-pangalengan/
ATTACH;FMTTYPE=image/png:https://trans.kopkarmeaina.top/wp-content/uploads/2023/12/logokopkarmeaina.png
END:VEVENT
END:VCALENDAR